BEGIN:VCALENDAR
VERSION:2.0
PRODID:-//InterSoccer Switzerland - ECPv6.15.16//NONSGML v1.0//EN
CALSCALE:GREGORIAN
METHOD:PUBLISH
X-WR-CALNAME:InterSoccer Switzerland
X-ORIGINAL-URL:https://www.intersoccer.ch/fr/
X-WR-CALDESC:Évènements pour InterSoccer Switzerland
REFRESH-INTERVAL;VALUE=DURATION:PT1H
X-Robots-Tag:noindex
X-PUBLISHED-TTL:PT1H
BEGIN:VTIMEZONE
TZID:UTC
BEGIN:STANDARD
TZOFFSETFROM:+0000
TZOFFSETTO:+0000
TZNAME:UTC
DTSTART:20240101T000000
END:STANDARD
END:VTIMEZONE
BEGIN:VEVENT
DTSTART;TZID=UTC:20250330T093000
DTEND;TZID=UTC:20250330T103000
DTSTAMP:20260422T220720
CREATED:20200428T120523Z
LAST-MODIFIED:20260210T102800Z
UID:38239-1743327000-1743330600@www.intersoccer.ch
SUMMARY:Stage de foot gratuit et ludique pour filles à Genève
DESCRIPTION:Chez InterSoccer\, nous sommes convaincus que le football doit être accessible à tous\, quels que soient l’âge\, le sexe ou le niveau de compétence. Nous sommes profondément engagés à augmenter la participation des femmes dans le football\, et notre offre Girl Power Pack est un excellent exemple de ce dévouement\, reconnaissant les nombreux avantages que le sport apporte aux jeunes filles. Au-delà du simple jeu\, le football est un outil puissant de développement personnel\, qui aide les filles à prendre confiance en elles\, à développer leurs aptitudes au travail d’équipe\, à rester actives et à se faire de nouvelles amies dans un environnement amusant et positif. Cependant\, malgré les nombreux avantages de la pratique du football\, de nombreuses filles hésitent à s’inscrire\, faute d’opportunités\, d’encouragements ou d’initiatives axées sur les femmes.    \nC’est pourquoi nous sommes ravis d’organiser cette séance de football gratuite\, conçue spécialement pour les filles âgées de 3 à 12 ans. Cet événement spécial offre un cadre accueillant et inclusif où les jeunes joueuses peuvent découvrir les joies du football sans aucune pression. Qu’elles soient totalement débutantes ou qu’elles aiment déjà jouer\, cette session leur permettra d’explorer leur potentiel\, de développer de nouvelles compétences et\, surtout\, de s’amuser ! Notre objectif ultime est d’inciter davantage de jeunes filles à participer au football\, de faire tomber les barrières et de montrer que ce sport est vraiment pour tout le monde\, quel que soit le contexte ou le niveau d’expérience.
URL:https://www.intersoccer.ch/fr/event/stage-de-foot-gratuit-et-ludique-pour-filles-a-geneve/
LOCATION:Stade des Evaux\, Rte de Loëx 60\, Onex\, Confignon\, 1232\, Switzerland
ATTACH;FMTTYPE=image/png:https://www.intersoccer.ch/wp-content/uploads/2020/04/Untitled-design-2025-11-19T172751.737.png
ORGANIZER;CN="InterSoccer":MAILTO:info@intersoccer.ch
END:VEVENT
END:VCALENDAR