BEGIN:VCALENDAR
VERSION:2.0
PRODID:-//InterSoccer Switzerland - ECPv6.15.16//NONSGML v1.0//EN
CALSCALE:GREGORIAN
METHOD:PUBLISH
X-WR-CALNAME:InterSoccer Switzerland
X-ORIGINAL-URL:https://www.intersoccer.ch
X-WR-CALDESC:Events for InterSoccer Switzerland
REFRESH-INTERVAL;VALUE=DURATION:PT1H
X-Robots-Tag:noindex
X-PUBLISHED-TTL:PT1H
BEGIN:VTIMEZONE
TZID:Europe/Paris
BEGIN:DAYLIGHT
TZOFFSETFROM:+0100
TZOFFSETTO:+0200
TZNAME:CEST
DTSTART:20240331T010000
END:DAYLIGHT
BEGIN:STANDARD
TZOFFSETFROM:+0200
TZOFFSETTO:+0100
TZNAME:CET
DTSTART:20241027T010000
END:STANDARD
BEGIN:DAYLIGHT
TZOFFSETFROM:+0100
TZOFFSETTO:+0200
TZNAME:CEST
DTSTART:20250330T010000
END:DAYLIGHT
BEGIN:STANDARD
TZOFFSETFROM:+0200
TZOFFSETTO:+0100
TZNAME:CET
DTSTART:20251026T010000
END:STANDARD
BEGIN:DAYLIGHT
TZOFFSETFROM:+0100
TZOFFSETTO:+0200
TZNAME:CEST
DTSTART:20260329T010000
END:DAYLIGHT
BEGIN:STANDARD
TZOFFSETFROM:+0200
TZOFFSETTO:+0100
TZNAME:CET
DTSTART:20261025T010000
END:STANDARD
END:VTIMEZONE
BEGIN:VEVENT
DTSTART;TZID=Europe/Paris:20251213T111500
DTEND;TZID=Europe/Paris:20251221T153000
DTSTAMP:20260422T173308
CREATED:20251119T112807Z
LAST-MODIFIED:20251119T160810Z
UID:40449-1765624500-1766331000@www.intersoccer.ch
SUMMARY:Geneva Fun Football Tournaments
DESCRIPTION:Geneva Football Tournaments (Ages 5–12)\nJoin One or Join All!\nJoin us this December for three special Geneva Football Tournaments full of action\, fun\, and festive spirit! Open to all boys and girls aged 5 to 12.  Whether your child plays in one tournament or all three\, they will enjoy lots of matches\, friendly competition\, and an unforgettable football experience. Every participant receives a medal to celebrate their effort and skills. \nPlayers can attend one\, two or three events — no limit. \nDates & Locations\n📍 Where:  Geneva –  Raymond Uldry🕘 When:  Saturday\, December 13 – 11:15am – 12:45pm \n📍 Where:  Geneva –  Collège Sismondi🕘 When:  Sunday\, December 14 & 21 – 2:00pm – 3:30pm \nWhat to Bring\n\nIndoor sports shoes (non-marking soles)\nSports clothes and water bottle\nA positive attitude and love for the game!\n\nPlaces are limited. Book early and let your child finish the year on the pitch with confidence\, smiles\, and great football moments!
URL:https://www.intersoccer.ch/event/geneva-fun-football-tournaments/
LOCATION:Geneva – Collège Sismondi / Raymond Uldry\, Geneva\, Switzerland
ATTACH;FMTTYPE=image/png:https://www.intersoccer.ch/wp-content/uploads/2025/09/Untitled-design-2025-09-05T095427.597.png
ORGANIZER;CN="InterSoccer":MAILTO:info@intersoccer.ch
END:VEVENT
END:VCALENDAR