BEGIN:VCALENDAR
VERSION:2.0
PRODID:-//InterSoccer Switzerland - ECPv6.15.16//NONSGML v1.0//EN
CALSCALE:GREGORIAN
METHOD:PUBLISH
X-WR-CALNAME:InterSoccer Switzerland
X-ORIGINAL-URL:https://www.intersoccer.ch
X-WR-CALDESC:Events for InterSoccer Switzerland
REFRESH-INTERVAL;VALUE=DURATION:PT1H
X-Robots-Tag:noindex
X-PUBLISHED-TTL:PT1H
BEGIN:VTIMEZONE
TZID:UTC
BEGIN:STANDARD
TZOFFSETFROM:+0000
TZOFFSETTO:+0000
TZNAME:UTC
DTSTART:20240101T000000
END:STANDARD
END:VTIMEZONE
BEGIN:VEVENT
DTSTART;TZID=UTC:20250330T093000
DTEND;TZID=UTC:20250330T103000
DTSTAMP:20260422T204325
CREATED:20200428T120523Z
LAST-MODIFIED:20251119T162939Z
UID:1215-1743327000-1743330600@www.intersoccer.ch
SUMMARY:Free Fun Football Workshop for Girls in Geneva
DESCRIPTION:At InterSoccer\, we strongly believe that football should be accessible to everyone\, regardless of age\, gender\, or skill level. We are deeply committed to increasing female participation in football\, and our Girl Power Pack Offer  is a great example of this dedication\, recognizing the many benefits the sport brings to young girls. Beyond just being a game\, football is a powerful tool for personal growth\, helping girls build confidence\, develop teamwork skills\, stay active\, and make new friends in a fun and supportive environment. However\, despite the many advantages of playing football\, many girls hesitate to join due to a lack of opportunities\, encouragement\, or female-focused initiatives. \nThat’s why we are thrilled to be organizing this free football session\, designed specifically for girls aged  3-12. This special event provides a welcoming and inclusive setting where young players can experience the joy of football without any pressure. Whether they are complete beginners or already enjoy playing\, this session will allow them to explore their potential\, develop new skills\, and most importantly\, have fun! Our ultimate goal is to inspire more young girls to take part in football\, break down barriers\, and show that this sport is truly for everyone—no matter their background or experience level.
URL:https://www.intersoccer.ch/event/free-football-workshop-for-girls-in-geneva/
LOCATION:Stade des Evaux\, Rte de Loëx 60\, Onex\, Confignon\, 1232\, Switzerland
ATTACH;FMTTYPE=image/png:https://www.intersoccer.ch/wp-content/uploads/2020/04/Untitled-design-2025-11-19T172751.737.png
ORGANIZER;CN="InterSoccer":MAILTO:info@intersoccer.ch
END:VEVENT
END:VCALENDAR