BEGIN:VCALENDAR
VERSION:2.0
PRODID:-//InterSoccer Switzerland - ECPv6.15.16//NONSGML v1.0//EN
CALSCALE:GREGORIAN
METHOD:PUBLISH
X-WR-CALNAME:InterSoccer Switzerland
X-ORIGINAL-URL:https://www.intersoccer.ch/de/
X-WR-CALDESC:Veranstaltungen für InterSoccer Switzerland
REFRESH-INTERVAL;VALUE=DURATION:PT1H
X-Robots-Tag:noindex
X-PUBLISHED-TTL:PT1H
BEGIN:VTIMEZONE
TZID:UTC
BEGIN:STANDARD
TZOFFSETFROM:+0000
TZOFFSETTO:+0000
TZNAME:UTC
DTSTART:20240101T000000
END:STANDARD
END:VTIMEZONE
BEGIN:VEVENT
DTSTART;TZID=UTC:20250330T093000
DTEND;TZID=UTC:20250330T103000
DTSTAMP:20260422T214805
CREATED:20200428T120523Z
LAST-MODIFIED:20260210T102802Z
UID:43135-1743327000-1743330600@www.intersoccer.ch
SUMMARY:Kostenloser Fussballworkshop für Mädchen in Genf
DESCRIPTION:Wir bei InterSoccer sind der festen Überzeugung\, dass Fussball für jeden zugänglich sein sollte\, unabhängig von Alter\, Geschlecht oder Leistungsstufen. Wir setzen uns intensiv dafür ein\, die Beteiligung von Frauen am Fussball zu fördern\, und unser Girl Power Pack-Angebot ist ein hervorragendes Beispiel für dieses Engagement\, da es die vielen Vorteile berücksichtigt\, die dieser Sport jungen Mädchen bietet. Fussball ist nicht nur ein Spiel\, sondern auch ein wirksames Instrument für persönliches Wachstum und hilft Mädchen\, Selbstvertrauen aufzubauen\, Teamfähigkeiten zu entwickeln\, aktiv zu bleiben und in einer unterhaltsamen und unterstützenden Umgebung neue Freunde zu finden. Doch trotz der vielen Vorteile des Fussballspielens zögern viele Mädchen\, mitzumachen\, weil es an Möglichkeiten\, Ermutigung oder frauenorientierten Initiativen mangelt.    \nDeshalb freuen wir uns sehr\, diese kostenlose Fussballsitzung zu organisieren\, die speziell für Mädchen im Alter von 3 bis 12 Jahren konzipiert ist. Diese besondere Veranstaltung bietet eine einladende und integrative Umgebung\, in der junge Spielerinnen ohne Druck die Freude am Fussball erleben können. Ganz gleich\, ob sie absolute Anfängerinnen sind oder bereits Spass am Spielen haben\, dieses Training ermöglicht es ihnen\, ihr Potenzial zu entdecken\, neue Fähigkeiten zu entwickeln und vor allem Spass zu haben! Unser oberstes Ziel ist es\, mehr junge Mädchen für den Fussball zu begeistern\, Barrieren abzubauen und zu zeigen\, dass dieser Sport wirklich für alle da ist – unabhängig von ihrer Herkunft oder ihrem Erfahrungsniveau.
URL:https://www.intersoccer.ch/de/event/kostenloser-fussballworkshop-fuer-maedchen-in-genf/
LOCATION:Stade des Evaux\, Rte de Loëx 60\, Onex\, Confignon\, 1232\, Switzerland
ATTACH;FMTTYPE=image/png:https://www.intersoccer.ch/wp-content/uploads/2020/04/Untitled-design-2025-11-19T172751.737.png
ORGANIZER;CN="InterSoccer":MAILTO:info@intersoccer.ch
END:VEVENT
END:VCALENDAR